BEGIN:VCALENDAR
VERSION:2.0
PRODID:-//Ernafo&#039;s - ECPv6.15.17.1//NONSGML v1.0//EN
CALSCALE:GREGORIAN
METHOD:PUBLISH
X-WR-CALNAME:Ernafo&#039;s
X-ORIGINAL-URL:https://www.ernafos.it
X-WR-CALDESC:Eventi per Ernafo&#039;s
REFRESH-INTERVAL;VALUE=DURATION:PT1H
X-Robots-Tag:noindex
X-PUBLISHED-TTL:PT1H
BEGIN:VTIMEZONE
TZID:Europe/Rome
BEGIN:DAYLIGHT
TZOFFSETFROM:+0100
TZOFFSETTO:+0200
TZNAME:CEST
DTSTART:20160327T010000
END:DAYLIGHT
BEGIN:STANDARD
TZOFFSETFROM:+0200
TZOFFSETTO:+0100
TZNAME:CET
DTSTART:20161030T010000
END:STANDARD
BEGIN:DAYLIGHT
TZOFFSETFROM:+0100
TZOFFSETTO:+0200
TZNAME:CEST
DTSTART:20170326T010000
END:DAYLIGHT
BEGIN:STANDARD
TZOFFSETFROM:+0200
TZOFFSETTO:+0100
TZNAME:CET
DTSTART:20171029T010000
END:STANDARD
BEGIN:DAYLIGHT
TZOFFSETFROM:+0100
TZOFFSETTO:+0200
TZNAME:CEST
DTSTART:20180325T010000
END:DAYLIGHT
BEGIN:STANDARD
TZOFFSETFROM:+0200
TZOFFSETTO:+0100
TZNAME:CET
DTSTART:20181028T010000
END:STANDARD
END:VTIMEZONE
BEGIN:VEVENT
DTSTART;VALUE=DATE:20170101
DTEND;VALUE=DATE:20180101
DTSTAMP:20260423T223639
CREATED:20260412T201721Z
LAST-MODIFIED:20260412T201721Z
UID:2246-1483228800-1514764799@www.ernafos.it
SUMMARY:I Edizione Concorso Nazionale "Ars Mea" 2017
DESCRIPTION:I Edizione del Concorso Nazionale “Ars mea” 2017. Sezioni: Opere poetiche in lingua italiana e dialettale\, Opere pittoriche\, Opere fotografiche a tema libero. Organizzato da RDP Eventi e Associazione Nazionale Fante.
URL:https://www.ernafos.it/evento/i-edizione-concorso-nazionale-ars-mea-2017/
ATTACH;FMTTYPE=image/jpeg:https://www.ernafos.it/wp-content/uploads/2025/01/ARS-MEA.jpg
END:VEVENT
END:VCALENDAR