BEGIN:VCALENDAR
VERSION:2.0
PRODID:-//Ernafo&#039;s - ECPv6.15.17.1//NONSGML v1.0//EN
CALSCALE:GREGORIAN
METHOD:PUBLISH
X-WR-CALNAME:Ernafo&#039;s
X-ORIGINAL-URL:https://www.ernafos.it
X-WR-CALDESC:Eventi per Ernafo&#039;s
REFRESH-INTERVAL;VALUE=DURATION:PT1H
X-Robots-Tag:noindex
X-PUBLISHED-TTL:PT1H
BEGIN:VTIMEZONE
TZID:Europe/Rome
BEGIN:DAYLIGHT
TZOFFSETFROM:+0100
TZOFFSETTO:+0200
TZNAME:CEST
DTSTART:20170326T010000
END:DAYLIGHT
BEGIN:STANDARD
TZOFFSETFROM:+0200
TZOFFSETTO:+0100
TZNAME:CET
DTSTART:20171029T010000
END:STANDARD
BEGIN:DAYLIGHT
TZOFFSETFROM:+0100
TZOFFSETTO:+0200
TZNAME:CEST
DTSTART:20180325T010000
END:DAYLIGHT
BEGIN:STANDARD
TZOFFSETFROM:+0200
TZOFFSETTO:+0100
TZNAME:CET
DTSTART:20181028T010000
END:STANDARD
BEGIN:DAYLIGHT
TZOFFSETFROM:+0100
TZOFFSETTO:+0200
TZNAME:CEST
DTSTART:20190331T010000
END:DAYLIGHT
BEGIN:STANDARD
TZOFFSETFROM:+0200
TZOFFSETTO:+0100
TZNAME:CET
DTSTART:20191027T010000
END:STANDARD
BEGIN:DAYLIGHT
TZOFFSETFROM:+0100
TZOFFSETTO:+0200
TZNAME:CEST
DTSTART:20200329T010000
END:DAYLIGHT
BEGIN:STANDARD
TZOFFSETFROM:+0200
TZOFFSETTO:+0100
TZNAME:CET
DTSTART:20201025T010000
END:STANDARD
BEGIN:DAYLIGHT
TZOFFSETFROM:+0100
TZOFFSETTO:+0200
TZNAME:CEST
DTSTART:20210328T010000
END:DAYLIGHT
BEGIN:STANDARD
TZOFFSETFROM:+0200
TZOFFSETTO:+0100
TZNAME:CET
DTSTART:20211031T010000
END:STANDARD
BEGIN:DAYLIGHT
TZOFFSETFROM:+0100
TZOFFSETTO:+0200
TZNAME:CEST
DTSTART:20220327T010000
END:DAYLIGHT
BEGIN:STANDARD
TZOFFSETFROM:+0200
TZOFFSETTO:+0100
TZNAME:CET
DTSTART:20221030T010000
END:STANDARD
BEGIN:DAYLIGHT
TZOFFSETFROM:+0100
TZOFFSETTO:+0200
TZNAME:CEST
DTSTART:20230326T010000
END:DAYLIGHT
BEGIN:STANDARD
TZOFFSETFROM:+0200
TZOFFSETTO:+0100
TZNAME:CET
DTSTART:20231029T010000
END:STANDARD
END:VTIMEZONE
BEGIN:VEVENT
DTSTART;TZID=Europe/Rome:20220521T093000
DTEND;TZID=Europe/Rome:20220521T170000
DTSTAMP:20260423T000757
CREATED:20260412T202613Z
LAST-MODIFIED:20260412T202613Z
UID:2267-1653125400-1653152400@www.ernafos.it
SUMMARY:7^ Ex-Tempore di Pittura "Artisti en plein air" – Rivel'Art
DESCRIPTION:Il Gruppo Artisti Triestini “Rivel’Art” organizza la 7^ Ex-Tempore di pittura “Artisti en plein air”. Pittura dal vivo in Via Gabriele Foschiatti\, Trieste. Partecipazione gratuita.
URL:https://www.ernafos.it/evento/7-ex-tempore-di-pittura-artisti-en-plein-air-rivelart/
LOCATION:Via Gabriele Foschiatti\, Trieste\, TS\, Italy
ATTACH;FMTTYPE=image/jpeg:https://www.ernafos.it/wp-content/uploads/2025/01/EX-TEMPORE.jpg
END:VEVENT
BEGIN:VEVENT
DTSTART;TZID=Europe/Rome:20211001T100000
DTEND;TZID=Europe/Rome:20211031T190000
DTSTAMP:20260423T000757
CREATED:20260412T204759Z
LAST-MODIFIED:20260412T204759Z
UID:2331-1633082400-1635706800@www.ernafos.it
SUMMARY:Mostra Rettori Tribbio – Trieste
DESCRIPTION:Mostra presso Galleria Rettori Tribbio\, Trieste.
URL:https://www.ernafos.it/evento/mostra-rettori-tribbio-trieste/
LOCATION:Galleria Rettori Tribbio\, Trieste\, TS\, Italy
ATTACH;FMTTYPE=image/jpeg:https://www.ernafos.it/wp-content/uploads/2025/01/RETTORI-TRIBBIO.jpg
END:VEVENT
BEGIN:VEVENT
DTSTART;TZID=Europe/Rome:20210901T100000
DTEND;TZID=Europe/Rome:20210930T190000
DTSTAMP:20260423T000757
CREATED:20260412T204337Z
LAST-MODIFIED:20260412T204337Z
UID:2305-1630490400-1633028400@www.ernafos.it
SUMMARY:Magici Colori del Golfo – Trieste
DESCRIPTION:Mostra “Magici Colori del Golfo” a Trieste.
URL:https://www.ernafos.it/evento/magici-colori-del-golfo-trieste/
LOCATION:TS
ATTACH;FMTTYPE=image/jpeg:https://www.ernafos.it/wp-content/uploads/2025/01/MAGICI-COLORI-del-GOLFO.jpg
END:VEVENT
BEGIN:VEVENT
DTSTART;TZID=Europe/Rome:20210701T100000
DTEND;TZID=Europe/Rome:20210731T190000
DTSTAMP:20260423T000757
CREATED:20260412T204754Z
LAST-MODIFIED:20260412T204754Z
UID:2329-1625133600-1627758000@www.ernafos.it
SUMMARY:Pennellate di Sole – Trieste
DESCRIPTION:Mostra “Pennellate di Sole” a Trieste.
URL:https://www.ernafos.it/evento/pennellate-di-sole-trieste/
LOCATION:TS
ATTACH;FMTTYPE=image/jpeg:https://www.ernafos.it/wp-content/uploads/2025/01/PENNELLATE-di-SOLE-TS.jpg
END:VEVENT
BEGIN:VEVENT
DTSTART;TZID=Europe/Rome:20210601T170000
DTEND;TZID=Europe/Rome:20210630T190000
DTSTAMP:20260423T000757
CREATED:20260412T204327Z
LAST-MODIFIED:20260412T204327Z
UID:2301-1622566800-1625079600@www.ernafos.it
SUMMARY:Mostra alla Saletta – Trieste 2021
DESCRIPTION:Mostra collettiva presso La Saletta\, Trieste\, 2021.
URL:https://www.ernafos.it/evento/mostra-alla-saletta-trieste-2021/
LOCATION:TS
ATTACH;FMTTYPE=image/jpeg:https://www.ernafos.it/wp-content/uploads/2025/01/LA-SALETTA-2021.jpg
END:VEVENT
BEGIN:VEVENT
DTSTART;TZID=Europe/Rome:20210401T100000
DTEND;TZID=Europe/Rome:20210430T190000
DTSTAMP:20260423T000757
CREATED:20260412T204805Z
LAST-MODIFIED:20260412T204805Z
UID:2334-1617271200-1619809200@www.ernafos.it
SUMMARY:Piccolo Formato – Trieste
DESCRIPTION:Mostra “Piccolo Formato” a Trieste.
URL:https://www.ernafos.it/evento/piccolo-formato-trieste/
LOCATION:TS
ATTACH;FMTTYPE=image/jpeg:https://www.ernafos.it/wp-content/uploads/2025/01/PICCOLO-FORMATO.jpg
END:VEVENT
BEGIN:VEVENT
DTSTART;TZID=Europe/Rome:20201030T100000
DTEND;TZID=Europe/Rome:20201115T190000
DTSTAMP:20260423T000757
CREATED:20260412T202008Z
LAST-MODIFIED:20260412T202008Z
UID:2253-1604052000-1605466800@www.ernafos.it
SUMMARY:I 101 di Eclipsis – Premio Nazionale Arti Visive
DESCRIPTION:I 101 di Eclipsis – Premio Nazionale per le Arti Visive\, Prima Edizione 2020. A cura di Giancarlo Bonomo e Raffaella Ferrari. In collaborazione con art-alive.eu. Presso Spazio Dueunodue\, Bologna.
URL:https://www.ernafos.it/evento/i-101-di-eclipsis-premio-nazionale-arti-visive/
LOCATION:Spazio Dueunodue\, Via Galliera\, 2/B\, Bologna\, BO\, Italy
ATTACH;FMTTYPE=image/jpeg:https://www.ernafos.it/wp-content/uploads/2025/01/BOLOGNA.jpg
END:VEVENT
BEGIN:VEVENT
DTSTART;TZID=Europe/Rome:20200716T100000
DTEND;TZID=Europe/Rome:20200726T190000
DTSTAMP:20260423T000757
CREATED:20260412T200514Z
LAST-MODIFIED:20260412T200514Z
UID:2208-1594893600-1595790000@www.ernafos.it
SUMMARY:Premio Venezia – Mostra Concorso d'Arte Contemporanea
DESCRIPTION:Premio Venezia\, Prima Edizione. Mostra Concorso d’Arte Contemporanea organizzata da AccorsiArte. Esposizione presso gli spazi Accorsi Arte\, zona Castello – Arsenale\, Venezia.
URL:https://www.ernafos.it/evento/premio-venezia-mostra-concorso-darte-contemporanea/
LOCATION:Spazi Accorsi Arte\, Venezia\, VE\, Italy
ATTACH;FMTTYPE=image/jpeg:https://www.ernafos.it/wp-content/uploads/2025/01/VENEZIA.jpg
END:VEVENT
BEGIN:VEVENT
DTSTART;TZID=Europe/Rome:20200606T170000
DTEND;TZID=Europe/Rome:20200613T193000
DTSTAMP:20260423T000757
CREATED:20260412T202135Z
LAST-MODIFIED:20260412T202135Z
UID:2256-1591462800-1592076600@www.ernafos.it
SUMMARY:Colorando una Canzone – Mostra Collettiva Glam Art
DESCRIPTION:Mostra collettiva di opere d’arte “Colorando una Canzone”. 2° evento del concorso Glam Factor 2020 con Voto dei Visitatori. Organizzazione: Associazione Culturale Glam Art. Erna Fossati – Resp. Comunicazione.
URL:https://www.ernafos.it/evento/colorando-una-canzone-mostra-collettiva-glam-art/
LOCATION:Associazione Culturale Glam Art\, Capo di Piazza Bartoli\, 1 - 1° piano\, Trieste\, TS\, Italy
ATTACH;FMTTYPE=image/jpeg:https://www.ernafos.it/wp-content/uploads/2025/01/COLORANDO-una-CANZONE.jpg
END:VEVENT
BEGIN:VEVENT
DTSTART;TZID=Europe/Rome:20200301T100000
DTEND;TZID=Europe/Rome:20200331T190000
DTSTAMP:20260423T000757
CREATED:20260412T204534Z
LAST-MODIFIED:20260412T204534Z
UID:2318-1583056800-1585681200@www.ernafos.it
SUMMARY:Mostra a Monfalcone (II)
DESCRIPTION:Esposizione a Monfalcone (GO).
URL:https://www.ernafos.it/evento/mostra-a-monfalcone-ii/
LOCATION:TS
ATTACH;FMTTYPE=image/jpeg:https://www.ernafos.it/wp-content/uploads/2025/01/MONFALCONE.jpg
END:VEVENT
BEGIN:VEVENT
DTSTART;TZID=Europe/Rome:20200201T100000
DTEND;TZID=Europe/Rome:20200228T190000
DTSTAMP:20260423T000758
CREATED:20260412T205414Z
LAST-MODIFIED:20260412T205414Z
UID:2344-1580551200-1582916400@www.ernafos.it
SUMMARY:Sogni d'Infanzia – Trieste
DESCRIPTION:Mostra “Sogni d’Infanzia” a Trieste.
URL:https://www.ernafos.it/evento/sogni-dinfanzia-trieste/
LOCATION:TS
ATTACH;FMTTYPE=image/jpeg:https://www.ernafos.it/wp-content/uploads/2025/01/SOGNI-DINFANZIA.jpg
END:VEVENT
BEGIN:VEVENT
DTSTART;TZID=Europe/Rome:20200118T100000
DTEND;TZID=Europe/Rome:20200130T190000
DTSTAMP:20260423T000758
CREATED:20260412T202241Z
LAST-MODIFIED:20260412T202241Z
UID:2259-1579341600-1580410800@www.ernafos.it
SUMMARY:Divagazioni in Rosso
DESCRIPTION:Mostra “Divagazioni in Rosso” a Trieste.
URL:https://www.ernafos.it/evento/divagazioni-in-rosso/
LOCATION:TS
ATTACH;FMTTYPE=image/jpeg:https://www.ernafos.it/wp-content/uploads/2025/01/DIVAGAZIONI-in-ROSSO.jpg
END:VEVENT
BEGIN:VEVENT
DTSTART;TZID=Europe/Rome:20200101T100000
DTEND;TZID=Europe/Rome:20200131T190000
DTSTAMP:20260423T000758
CREATED:20260412T204851Z
LAST-MODIFIED:20260412T204851Z
UID:2340-1577872800-1580497200@www.ernafos.it
SUMMARY:Scarpette Rosse – Roma
DESCRIPTION:Mostra “Scarpette Rosse” a Roma.
URL:https://www.ernafos.it/evento/scarpette-rosse-roma/
LOCATION:TS
ATTACH;FMTTYPE=image/jpeg:https://www.ernafos.it/wp-content/uploads/2025/01/SCARPETTE-ROSSE-ROMA.jpg
END:VEVENT
BEGIN:VEVENT
DTSTART;TZID=Europe/Rome:20191207T180000
DTEND;TZID=Europe/Rome:20191221T200000
DTSTAMP:20260423T000758
CREATED:20260412T203939Z
LAST-MODIFIED:20260412T203939Z
UID:2293-1575741600-1576958400@www.ernafos.it
SUMMARY:In Vino Veritas – Mostra Collettiva
DESCRIPTION:Mostra collettiva d’arte contemporanea “In Vino Veritas”. Rivel’Art presso Bottega dell’Immagine\, Via Santa Giustina 11/b\, Trieste. 7-21 dicembre 2019.
URL:https://www.ernafos.it/evento/in-vino-veritas-mostra-collettiva/
LOCATION:Bottega dell’Immagine\, Via Santa Giustina\, 11/b\, Trieste\, TS\, Italy
ATTACH;FMTTYPE=image/jpeg:https://www.ernafos.it/wp-content/uploads/2025/01/IMG_6678.jpg
END:VEVENT
BEGIN:VEVENT
DTSTART;TZID=Europe/Rome:20191205T180000
DTEND;TZID=Europe/Rome:20191220T193000
DTSTAMP:20260423T000758
CREATED:20260412T202845Z
LAST-MODIFIED:20260412T202845Z
UID:2272-1575568800-1576870200@www.ernafos.it
SUMMARY:D'Arte un Sorriso – Mostra d'arte ironica e buffa
DESCRIPTION:Mostra collettiva d’arte ironica e buffa “D’Arte un Sorriso”. Mostra internazionale con artisti da Italia\, Germania\, Polonia\, Olanda\, Spagna\, Ucraina. Presso Glam Art\, Trieste.
URL:https://www.ernafos.it/evento/darte-un-sorriso-mostra-darte-ironica-e-buffa/
LOCATION:Glam Art\, Capo di Piazza G. Bartoli\, 1\, Trieste\, TS\, Italy
ATTACH;FMTTYPE=image/jpeg:https://www.ernafos.it/wp-content/uploads/2025/01/GLAM-ART.jpg
END:VEVENT
BEGIN:VEVENT
DTSTART;TZID=Europe/Rome:20191101T100000
DTEND;TZID=Europe/Rome:20191130T190000
DTSTAMP:20260423T000758
CREATED:20260412T204846Z
LAST-MODIFIED:20260412T204846Z
UID:2338-1572602400-1575140400@www.ernafos.it
SUMMARY:Mostra a Salerno
DESCRIPTION:Esposizione a Salerno.
URL:https://www.ernafos.it/evento/mostra-a-salerno/
LOCATION:TS
ATTACH;FMTTYPE=image/jpeg:https://www.ernafos.it/wp-content/uploads/2025/01/SALERNO.jpg
END:VEVENT
BEGIN:VEVENT
DTSTART;TZID=Europe/Rome:20191010T100000
DTEND;TZID=Europe/Rome:20191019T190000
DTSTAMP:20260423T000758
CREATED:20260412T203708Z
LAST-MODIFIED:20260412T203708Z
UID:2288-1570701600-1571511600@www.ernafos.it
SUMMARY:Velenelvento
DESCRIPTION:Mostra “Velenelvento” a Trieste. 10-19 ottobre 2019.
URL:https://www.ernafos.it/evento/velenelvento/
LOCATION:TS
ATTACH;FMTTYPE=image/jpeg:https://www.ernafos.it/wp-content/uploads/2025/01/IMG_5793.jpg
END:VEVENT
BEGIN:VEVENT
DTSTART;TZID=Europe/Rome:20190901T100000
DTEND;TZID=Europe/Rome:20190930T190000
DTSTAMP:20260423T000758
CREATED:20260412T204552Z
LAST-MODIFIED:20260412T204552Z
UID:2326-1567332000-1569870000@www.ernafos.it
SUMMARY:Mostra a Palazzo Zenobio – Venezia
DESCRIPTION:Esposizione presso Palazzo Zenobio\, Venezia.
URL:https://www.ernafos.it/evento/mostra-a-palazzo-zenobio-venezia/
LOCATION:Palazzo Zenobio\, Venezia\, VE\, Italy
ATTACH;FMTTYPE=image/jpeg:https://www.ernafos.it/wp-content/uploads/2025/01/PALAZZO-ZENOBIO-Venezia.jpg
END:VEVENT
BEGIN:VEVENT
DTSTART;TZID=Europe/Rome:20190606T190000
DTEND;TZID=Europe/Rome:20190615T200000
DTSTAMP:20260423T000758
CREATED:20260412T200910Z
LAST-MODIFIED:20260412T200910Z
UID:2222-1559847600-1560628800@www.ernafos.it
SUMMARY:Exposición Sugerencias – BCM Art Gallery Barcelona
DESCRIPTION:Exposición Sugerencias presso BCM Art Gallery\, Barcellona. Mostra collettiva con Erna Fossati e altri artisti.
URL:https://www.ernafos.it/evento/exposicion-sugerencias-bcm-art-gallery-barcelona/
LOCATION:BCM Art Gallery\, Calle Bailen\, 134\, Barcellona\, Spain
ATTACH;FMTTYPE=image/jpeg:https://www.ernafos.it/wp-content/uploads/2025/01/BARCELLONA.jpg
END:VEVENT
BEGIN:VEVENT
DTSTART;TZID=Europe/Rome:20190601T100000
DTEND;TZID=Europe/Rome:20190630T190000
DTSTAMP:20260423T000758
CREATED:20260412T205419Z
LAST-MODIFIED:20260412T205419Z
UID:2346-1559383200-1561921200@www.ernafos.it
SUMMARY:Spoleto Arte
DESCRIPTION:Esposizione “Spoleto Arte” a Spoleto.
URL:https://www.ernafos.it/evento/spoleto-arte/
LOCATION:TS
ATTACH;FMTTYPE=image/jpeg:https://www.ernafos.it/wp-content/uploads/2025/01/SPOLETO-ARTE-1.jpg
END:VEVENT
BEGIN:VEVENT
DTSTART;TZID=Europe/Rome:20190601T100000
DTEND;TZID=Europe/Rome:20190630T190000
DTSTAMP:20260423T000758
CREATED:20260412T202725Z
LAST-MODIFIED:20260412T202725Z
UID:2270-1559383200-1561921200@www.ernafos.it
SUMMARY:Premio Internazionale Brunelleschi – PitturiAmo
DESCRIPTION:Premio Internazionale Brunelleschi. 1° Premio Internazionale PitturiAmo. Pittura\, Scultura\, Grafica\, Fotografia\, VideoArt. Firenze.
URL:https://www.ernafos.it/evento/premio-internazionale-brunelleschi-pitturiamo/
LOCATION:TS
ATTACH;FMTTYPE=image/jpeg:https://www.ernafos.it/wp-content/uploads/2025/01/FIRENZE.jpg
END:VEVENT
BEGIN:VEVENT
DTSTART;TZID=Europe/Rome:20190525T180000
DTEND;TZID=Europe/Rome:20190608T200000
DTSTAMP:20260423T000758
CREATED:20260412T202500Z
LAST-MODIFIED:20260412T202500Z
UID:2264-1558807200-1560024000@www.ernafos.it
SUMMARY:Espressioni a Confronto – Rivel'Art
DESCRIPTION:Mostra del Gruppo Artisti Triestini “Rivel’Art” presso Bottega dell’Immagine\, Trieste. Inaugurazione sabato 25 maggio 2019 ore 18.00.
URL:https://www.ernafos.it/evento/espressioni-a-confronto-rivelart/
LOCATION:Bottega dell’Immagine\, Via Santa Giustina\, 11/b\, Trieste\, TS\, Italy
ATTACH;FMTTYPE=image/jpeg:https://www.ernafos.it/wp-content/uploads/2025/01/ESPRESSIONI-a-CONFRONTO.jpg
END:VEVENT
BEGIN:VEVENT
DTSTART;TZID=Europe/Rome:20190518T100000
DTEND;TZID=Europe/Rome:20190525T190000
DTSTAMP:20260423T000758
CREATED:20260412T200600Z
LAST-MODIFIED:20260412T200600Z
UID:2211-1558173600-1558810800@www.ernafos.it
SUMMARY:Concorso Internazionale di Pittura in Rosso – Villa Truffini
DESCRIPTION:Concorso Internazionale di Pittura in Rosso presso Villa Truffini. Curatrice dell’evento: Narda Martinez “Pittrice”. Dove gli artisti creano col cuore. Dipinti con tutti i colori del rosso e le sue mille sfumature.
URL:https://www.ernafos.it/evento/concorso-internazionale-di-pittura-in-rosso-villa-truffini/
LOCATION:Villa Truffini\, Corso Paolo Bernacchi\, 2\, Tradate\, VA\, Italy
ATTACH;FMTTYPE=image/jpeg:https://www.ernafos.it/wp-content/uploads/2025/01/VERCELLI.jpg
END:VEVENT
BEGIN:VEVENT
DTSTART;TZID=Europe/Rome:20190401T100000
DTEND;TZID=Europe/Rome:20190430T190000
DTSTAMP:20260423T000758
CREATED:20260412T204530Z
LAST-MODIFIED:20260412T204530Z
UID:2316-1554112800-1556650800@www.ernafos.it
SUMMARY:Mostra a Monfalcone
DESCRIPTION:Esposizione a Monfalcone (GO).
URL:https://www.ernafos.it/evento/mostra-a-monfalcone/
LOCATION:TS
ATTACH;FMTTYPE=image/jpeg:https://www.ernafos.it/wp-content/uploads/2025/01/MONFALCONE-GO.jpg
END:VEVENT
BEGIN:VEVENT
DTSTART;TZID=Europe/Rome:20190301T100000
DTEND;TZID=Europe/Rome:20190331T190000
DTSTAMP:20260423T000758
CREATED:20260412T204522Z
LAST-MODIFIED:20260412T204522Z
UID:2311-1551434400-1554058800@www.ernafos.it
SUMMARY:Mostra Art Mall Milano
DESCRIPTION:Esposizione presso Art Mall Milano\, Via Torino 64\, Milano.
URL:https://www.ernafos.it/evento/mostra-art-mall-milano/
LOCATION:Art Mall Milano\, Via Torino\, 64\, Milano\, MI\, Italy
ATTACH;FMTTYPE=image/jpeg:https://www.ernafos.it/wp-content/uploads/2025/01/MILANO.jpg
END:VEVENT
BEGIN:VEVENT
DTSTART;TZID=Europe/Rome:20190227T200000
DTEND;TZID=Europe/Rome:20190303T210000
DTSTAMP:20260423T000758
CREATED:20260412T200822Z
LAST-MODIFIED:20260412T200822Z
UID:2219-1551297600-1551646800@www.ernafos.it
SUMMARY:Arte Madrid – Premio Velazquez
DESCRIPTION:Arte Madrid – Premio Velazquez. Inaugurazione dell’esposizione presso la Galería Gaudí. Esposizione con entrada gratuita aperta fino al 3 marzo 2019.
URL:https://www.ernafos.it/evento/arte-madrid-premio-velazquez/
LOCATION:Galería Gaudí\, Calle de García de Paredes\, 76\, Madrid\, Spain
ATTACH;FMTTYPE=image/jpeg:https://www.ernafos.it/wp-content/uploads/2025/01/MADRID.jpg
END:VEVENT
BEGIN:VEVENT
DTSTART;TZID=Europe/Rome:20190223T190000
DTEND;TZID=Europe/Rome:20190223T230000
DTSTAMP:20260423T000758
CREATED:20260412T201529Z
LAST-MODIFIED:20260412T201529Z
UID:2240-1550948400-1550962800@www.ernafos.it
SUMMARY:Action Painting – Performance Rivel'Art
DESCRIPTION:Action Painting – Performance degli Artisti del Gruppo Artisti Triestini “Rivel’Art” presso il Mushroom Bar. Performance artistica accompagnata dal Gruppo musicale QUEI 3. Ingresso libero.
URL:https://www.ernafos.it/evento/action-painting-performance-rivelart/
LOCATION:Mushroom Bar\, Via San Maurizio\, 4/B\, Trieste\, TS\, Italy
ATTACH;FMTTYPE=image/jpeg:https://www.ernafos.it/wp-content/uploads/2025/01/ACTION-PAINTING.jpg
END:VEVENT
BEGIN:VEVENT
DTSTART;TZID=Europe/Rome:20190101T100000
DTEND;TZID=Europe/Rome:20190131T190000
DTSTAMP:20260423T000758
CREATED:20260412T204345Z
LAST-MODIFIED:20260412T204345Z
UID:2309-1546336800-1548961200@www.ernafos.it
SUMMARY:Mostra a Matera
DESCRIPTION:Esposizione a Matera.
URL:https://www.ernafos.it/evento/mostra-a-matera/
LOCATION:TS
ATTACH;FMTTYPE=image/jpeg:https://www.ernafos.it/wp-content/uploads/2025/01/MATERA.jpg
END:VEVENT
BEGIN:VEVENT
DTSTART;TZID=Europe/Rome:20181117T190000
DTEND;TZID=Europe/Rome:20181130T020000
DTSTAMP:20260423T000758
CREATED:20260412T204322Z
LAST-MODIFIED:20260412T204322Z
UID:2299-1542481200-1543543200@www.ernafos.it
SUMMARY:In Vino Veritas – Rivel'Art al Mushroom Bar
DESCRIPTION:Mostra “In Vino Veritas” del Gruppo Artisti Triestini Rivel’Art. Sala Espositiva Mushroom Bar\, Trieste. Inaugurazione sabato 17 novembre 2018 ore 19.
URL:https://www.ernafos.it/evento/in-vino-veritas-rivelart-al-mushroom-bar/
LOCATION:Mushroom Bar\, Via San Maurizio\, 4/B\, Trieste\, TS\, Italy
ATTACH;FMTTYPE=image/jpeg:https://www.ernafos.it/wp-content/uploads/2025/01/IN-VINO-VERITAS.jpg
END:VEVENT
BEGIN:VEVENT
DTSTART;TZID=Europe/Rome:20180901T100000
DTEND;TZID=Europe/Rome:20180930T190000
DTSTAMP:20260423T000758
CREATED:20260412T204809Z
LAST-MODIFIED:20260412T204809Z
UID:2336-1535796000-1538334000@www.ernafos.it
SUMMARY:Mostra Personale – Padova
DESCRIPTION:Mostra personale di Erna Fossati a Padova.
URL:https://www.ernafos.it/evento/mostra-personale-padova/
LOCATION:TS
ATTACH;FMTTYPE=image/jpeg:https://www.ernafos.it/wp-content/uploads/2025/01/PERSONALE-PADOVA.jpg
END:VEVENT
END:VCALENDAR