BEGIN:VCALENDAR
VERSION:2.0
PRODID:-//Ernafo&#039;s - ECPv6.15.17.1//NONSGML v1.0//EN
CALSCALE:GREGORIAN
METHOD:PUBLISH
X-WR-CALNAME:Ernafo&#039;s
X-ORIGINAL-URL:https://www.ernafos.it
X-WR-CALDESC:Eventi per Ernafo&#039;s
REFRESH-INTERVAL;VALUE=DURATION:PT1H
X-Robots-Tag:noindex
X-PUBLISHED-TTL:PT1H
BEGIN:VTIMEZONE
TZID:Europe/Rome
BEGIN:DAYLIGHT
TZOFFSETFROM:+0100
TZOFFSETTO:+0200
TZNAME:CEST
DTSTART:20190331T010000
END:DAYLIGHT
BEGIN:STANDARD
TZOFFSETFROM:+0200
TZOFFSETTO:+0100
TZNAME:CET
DTSTART:20191027T010000
END:STANDARD
BEGIN:DAYLIGHT
TZOFFSETFROM:+0100
TZOFFSETTO:+0200
TZNAME:CEST
DTSTART:20200329T010000
END:DAYLIGHT
BEGIN:STANDARD
TZOFFSETFROM:+0200
TZOFFSETTO:+0100
TZNAME:CET
DTSTART:20201025T010000
END:STANDARD
BEGIN:DAYLIGHT
TZOFFSETFROM:+0100
TZOFFSETTO:+0200
TZNAME:CEST
DTSTART:20210328T010000
END:DAYLIGHT
BEGIN:STANDARD
TZOFFSETFROM:+0200
TZOFFSETTO:+0100
TZNAME:CET
DTSTART:20211031T010000
END:STANDARD
BEGIN:DAYLIGHT
TZOFFSETFROM:+0100
TZOFFSETTO:+0200
TZNAME:CEST
DTSTART:20220327T010000
END:DAYLIGHT
BEGIN:STANDARD
TZOFFSETFROM:+0200
TZOFFSETTO:+0100
TZNAME:CET
DTSTART:20221030T010000
END:STANDARD
BEGIN:DAYLIGHT
TZOFFSETFROM:+0100
TZOFFSETTO:+0200
TZNAME:CEST
DTSTART:20230326T010000
END:DAYLIGHT
BEGIN:STANDARD
TZOFFSETFROM:+0200
TZOFFSETTO:+0100
TZNAME:CET
DTSTART:20231029T010000
END:STANDARD
BEGIN:DAYLIGHT
TZOFFSETFROM:+0100
TZOFFSETTO:+0200
TZNAME:CEST
DTSTART:20240331T010000
END:DAYLIGHT
BEGIN:STANDARD
TZOFFSETFROM:+0200
TZOFFSETTO:+0100
TZNAME:CET
DTSTART:20241027T010000
END:STANDARD
BEGIN:DAYLIGHT
TZOFFSETFROM:+0100
TZOFFSETTO:+0200
TZNAME:CEST
DTSTART:20250330T010000
END:DAYLIGHT
BEGIN:STANDARD
TZOFFSETFROM:+0200
TZOFFSETTO:+0100
TZNAME:CET
DTSTART:20251026T010000
END:STANDARD
BEGIN:DAYLIGHT
TZOFFSETFROM:+0100
TZOFFSETTO:+0200
TZNAME:CEST
DTSTART:20260329T010000
END:DAYLIGHT
BEGIN:STANDARD
TZOFFSETFROM:+0200
TZOFFSETTO:+0100
TZNAME:CET
DTSTART:20261025T010000
END:STANDARD
END:VTIMEZONE
BEGIN:VEVENT
DTSTART;TZID=Europe/Rome:20241226T153000
DTEND;TZID=Europe/Rome:20250106T183000
DTSTAMP:20260423T000312
CREATED:20260412T201433Z
LAST-MODIFIED:20260412T201433Z
UID:2237-1735227000-1736188200@www.ernafos.it
SUMMARY:Con il Natale nel Cuore – Mostra Rivel'Art
DESCRIPTION:Mostra del Gruppo Artisti Triestini “Rivel’Art” presso Palazzo Vivante. Inaugurazione giovedì 26 dicembre 2024 ore 15.30 con rappresentazione del “Presepio Parlante” della Repubblica dei Ragazzi. Ingresso libero.
URL:https://www.ernafos.it/evento/con-il-natale-nel-cuore-mostra-rivelart/
LOCATION:Palazzo Vivante\, Largo Papa Giovanni XXIII\, 7\, Trieste\, TS\, Italy
ATTACH;FMTTYPE=image/jpeg:https://www.ernafos.it/wp-content/uploads/2025/01/2024-TS.jpg
END:VEVENT
BEGIN:VEVENT
DTSTART;TZID=Europe/Rome:20241213T100000
DTEND;TZID=Europe/Rome:20241215T190000
DTSTAMP:20260423T000312
CREATED:20260412T200644Z
LAST-MODIFIED:20260412T200644Z
UID:2214-1734084000-1734289200@www.ernafos.it
SUMMARY:ART EXPO Trieste
DESCRIPTION:ART EXPO Trieste – Esposizione d’arte contemporanea.
URL:https://www.ernafos.it/evento/art-expo-trieste/
LOCATION:TS
ATTACH;FMTTYPE=image/jpeg:https://www.ernafos.it/wp-content/uploads/2025/01/locandina-EXPO.jpg
END:VEVENT
BEGIN:VEVENT
DTSTART;TZID=Europe/Rome:20241206T180000
DTEND;TZID=Europe/Rome:20241219T190000
DTSTAMP:20260423T000312
CREATED:20260412T201059Z
LAST-MODIFIED:20260412T201059Z
UID:2228-1733508000-1734634800@www.ernafos.it
SUMMARY:Noël en Art 2024 – Parigi
DESCRIPTION:Noël en Art 2024. Vernissage venerdì 6 dicembre ore 18:00. Critica ufficiale Marta Lock. Presso Galerie Thuillier\, Parigi.
URL:https://www.ernafos.it/evento/noel-en-art-2024-parigi/
LOCATION:Galerie Thuillier\, Paris\, France
ATTACH;FMTTYPE=image/jpeg:https://www.ernafos.it/wp-content/uploads/2025/01/PARIGI.jpg
END:VEVENT
BEGIN:VEVENT
DTSTART;TZID=Europe/Rome:20241128T173000
DTEND;TZID=Europe/Rome:20241128T200000
DTSTAMP:20260423T000312
CREATED:20260412T201335Z
LAST-MODIFIED:20260412T201335Z
UID:2234-1732815000-1732824000@www.ernafos.it
SUMMARY:Cammini...amo Insieme – No alla Violenza sulle Donne
DESCRIPTION:Incontri e confronti in occasione del 25 Novembre\, Giornata Internazionale per l’Eliminazione della Violenza contro le Donne. Presso il Salone del Popolo\, Palazzo D’Aronco\, Udine.
URL:https://www.ernafos.it/evento/cammini-amo-insieme-no-alla-violenza-sulle-donne/
LOCATION:Salone del Popolo – Palazzo D’Aronco\, Via Lionello\, 1\, Udine\, UD\, Italy
ATTACH;FMTTYPE=image/jpeg:https://www.ernafos.it/wp-content/uploads/2025/01/UDINE.jpg
END:VEVENT
BEGIN:VEVENT
DTSTART;TZID=Europe/Rome:20240821T180000
DTEND;TZID=Europe/Rome:20240915T200000
DTSTAMP:20260423T000312
CREATED:20260412T204122Z
LAST-MODIFIED:20260412T204122Z
UID:2296-1724263200-1726430400@www.ernafos.it
SUMMARY:Espressioni a Confronto 2024 – Magazzino 26
DESCRIPTION:Mostra Rivel’Art “Espressioni a Confronto” presso Magazzino 26\, Sala Sbisà\, Porto Vecchio\, Trieste. Inaugurazione 21 agosto 2024 ore 18. Ingresso libero.
URL:https://www.ernafos.it/evento/espressioni-a-confronto-2024-magazzino-26/
LOCATION:Magazzino 26 – Sala Sbisà\, Porto Vecchio\, Trieste\, TS\, Italy
ATTACH;FMTTYPE=image/jpeg:https://www.ernafos.it/wp-content/uploads/2025/01/IMG_7025.jpg
END:VEVENT
BEGIN:VEVENT
DTSTART;TZID=Europe/Rome:20240810T190000
DTEND;TZID=Europe/Rome:20240825T190000
DTSTAMP:20260423T000312
CREATED:20260412T200733Z
LAST-MODIFIED:20260412T200733Z
UID:2216-1723316400-1724612400@www.ernafos.it
SUMMARY:Artisti Italiani al Castello – Mostra Collettiva
DESCRIPTION:Artisti Italiani al Castello – Mostra Collettiva a cura de Le vie delle Foto e Atelier ’53-Amebe. Inaugurazione sabato 10 agosto 2024 alle ore 19.00 presso il Schloss Moosburg Gästehaus.
URL:https://www.ernafos.it/evento/artisti-italiani-al-castello-mostra-collettiva/
LOCATION:Schloss Moosburg Gästehaus\, Moosburg\, Austria
ATTACH;FMTTYPE=image/jpeg:https://www.ernafos.it/wp-content/uploads/2025/01/AUSTRIA.jpg
END:VEVENT
BEGIN:VEVENT
DTSTART;TZID=Europe/Rome:20240515T200000
DTEND;TZID=Europe/Rome:20240517T220000
DTSTAMP:20260423T000312
CREATED:20260412T203933Z
LAST-MODIFIED:20260412T203933Z
UID:2290-1715803200-1715983200@www.ernafos.it
SUMMARY:Satierose – Ceci n'est pas un chapeau
DESCRIPTION:Satierose al Teatro Miela\, Trieste. Stagione 23-24. Con Artisti triestini Rivel’Art e Conservatorio G. Tartini di Trieste.
URL:https://www.ernafos.it/evento/satierose-ceci-nest-pas-un-chapeau/
LOCATION:Teatro Miela\, Trieste\, TS\, Italy
ATTACH;FMTTYPE=image/jpeg:https://www.ernafos.it/wp-content/uploads/2025/01/IMG_6242.jpg
END:VEVENT
BEGIN:VEVENT
DTSTART;TZID=Europe/Rome:20240203T180000
DTEND;TZID=Europe/Rome:20240216T193000
DTSTAMP:20260423T000312
CREATED:20260412T203219Z
LAST-MODIFIED:20260412T203219Z
UID:2278-1706983200-1708111800@www.ernafos.it
SUMMARY:I Colori del Mondo – Mostra Collettiva
DESCRIPTION:Mostra collettiva d’arte contemporanea “I Colori del Mondo”. Galleria Rettori Tribbio 2 e Gruppo Artisti Triestini Rivel’Art. Inaugurazione sabato 3 febbraio 2024 ore 18.
URL:https://www.ernafos.it/evento/i-colori-del-mondo-mostra-collettiva/
LOCATION:Galleria Rettori Tribbio 2\, Piazza Vecchia\, 6\, Trieste\, TS\, Italy
ATTACH;FMTTYPE=image/jpeg:https://www.ernafos.it/wp-content/uploads/2025/01/I-COLORI-del-MONDO.jpg
END:VEVENT
BEGIN:VEVENT
DTSTART;TZID=Europe/Rome:20231002T180000
DTEND;TZID=Europe/Rome:20231009T200000
DTSTAMP:20260423T000312
CREATED:20260412T201912Z
LAST-MODIFIED:20260412T201912Z
UID:2250-1696269600-1696881600@www.ernafos.it
SUMMARY:L'arte a sostegno della fragilità – Nati per Muoversi
DESCRIPTION:“Nati per Muoversi – In Barcolana e nella vita con lo stesso spirito” presenta “L’arte a sostegno della fragilità”. Mostra a scopo benefico presso la Sala Arturo Fittke\, Trieste.
URL:https://www.ernafos.it/evento/larte-a-sostegno-della-fragilita-nati-per-muoversi/
LOCATION:Sala Arturo Fittke\, Piazza Piccola (dietro piazza Unità)\, Trieste\, TS\, Italy
ATTACH;FMTTYPE=image/jpeg:https://www.ernafos.it/wp-content/uploads/2025/01/BENEFICENZA-TS.jpg
END:VEVENT
BEGIN:VEVENT
DTSTART;TZID=Europe/Rome:20230831T100000
DTEND;TZID=Europe/Rome:20230903T190000
DTSTAMP:20260423T000312
CREATED:20260412T201149Z
LAST-MODIFIED:20260412T201149Z
UID:2231-1693476000-1693767600@www.ernafos.it
SUMMARY:Premio Internazionale Città di New York
DESCRIPTION:Premio Internazionale Città di New York organizzato da Effetto Arte presso la White Space Chelsea Gallery\, New York.
URL:https://www.ernafos.it/evento/premio-internazionale-citta-di-new-york/
LOCATION:White Space Chelsea Gallery\, New York\, United States
ATTACH;FMTTYPE=image/jpeg:https://www.ernafos.it/wp-content/uploads/2025/01/NEW-YORK.jpg
END:VEVENT
BEGIN:VEVENT
DTSTART;TZID=Europe/Rome:20230724T100000
DTEND;TZID=Europe/Rome:20230819T190000
DTSTAMP:20260423T000312
CREATED:20260412T201005Z
LAST-MODIFIED:20260412T201005Z
UID:2225-1690192800-1692471600@www.ernafos.it
SUMMARY:Premio Vienna 2023 – Contemporary Art Prize
DESCRIPTION:Premio Vienna 2023 – Premio Internazionale di Arte Contemporanea. 150° anniversario dell’Esposizione Universale di Vienna. Organizzato da PitturiAmo. Pittura\, Scultura\, Grafica\, Fotografia\, Arte Digitale.
URL:https://www.ernafos.it/evento/premio-vienna-2023-contemporary-art-prize/
LOCATION:The Gallery Steiner\, Kurrentgasse 4\, Wien\, Austria
ATTACH;FMTTYPE=image/jpeg:https://www.ernafos.it/wp-content/uploads/2025/01/VIENNA.jpg
END:VEVENT
BEGIN:VEVENT
DTSTART;TZID=Europe/Rome:20230708T180000
DTEND;TZID=Europe/Rome:20230820T200000
DTSTAMP:20260423T000312
CREATED:20260412T203542Z
LAST-MODIFIED:20260412T203542Z
UID:2285-1688839200-1692561600@www.ernafos.it
SUMMARY:Espressioni a Confronto – Magazzino 26
DESCRIPTION:Mostra Rivel’Art “Espressioni a Confronto” presso Magazzino 26\, Porto Vecchio\, Trieste. Inaugurazione sabato 8 luglio 2023 ore 18.
URL:https://www.ernafos.it/evento/espressioni-a-confronto-magazzino-26/
LOCATION:Magazzino 26\, Porto Vecchio\, Trieste\, TS\, Italy
ATTACH;FMTTYPE=image/jpeg:https://www.ernafos.it/wp-content/uploads/2025/01/TRIESTE-1.jpg
END:VEVENT
BEGIN:VEVENT
DTSTART;TZID=Europe/Rome:20230501T100000
DTEND;TZID=Europe/Rome:20230531T190000
DTSTAMP:20260423T000312
CREATED:20260412T204548Z
LAST-MODIFIED:20260412T204548Z
UID:2324-1682935200-1685559600@www.ernafos.it
SUMMARY:Tre Artisti\, Una Passione – Trieste
DESCRIPTION:Mostra “Tre Artisti\, Una Passione” a Trieste.
URL:https://www.ernafos.it/evento/tre-artisti-una-passione-trieste/
LOCATION:TS
ATTACH;FMTTYPE=image/jpeg:https://www.ernafos.it/wp-content/uploads/2025/01/TRE-ARTISTI-UNA-PASSIOLE-1.jpg
END:VEVENT
BEGIN:VEVENT
DTSTART;TZID=Europe/Rome:20230301T100000
DTEND;TZID=Europe/Rome:20230331T190000
DTSTAMP:20260423T000312
CREATED:20260412T204545Z
LAST-MODIFIED:20260412T204545Z
UID:2322-1677664800-1680289200@www.ernafos.it
SUMMARY:Mostra Galleria Rettori Tribbio – Trieste
DESCRIPTION:Mostra presso Galleria Rettori Tribbio 2\, Trieste.
URL:https://www.ernafos.it/evento/mostra-galleria-rettori-tribbio-trieste/
LOCATION:Galleria Rettori Tribbio 2\, Piazza Vecchia\, 6\, Trieste\, TS\, Italy
ATTACH;FMTTYPE=image/jpeg:https://www.ernafos.it/wp-content/uploads/2025/01/TRIBBIO-ts-1.jpg
END:VEVENT
BEGIN:VEVENT
DTSTART;TZID=Europe/Rome:20230114T170000
DTEND;TZID=Europe/Rome:20230127T193000
DTSTAMP:20260423T000312
CREATED:20260412T203017Z
LAST-MODIFIED:20260412T203017Z
UID:2275-1673715600-1674847800@www.ernafos.it
SUMMARY:Bianco & Nero – Hermetika
DESCRIPTION:Mostra collettiva “Bianco & Nero” presso Hermetika\, Trieste. Inaugurazione sabato 14 gennaio 2023 alle ore 17:00.
URL:https://www.ernafos.it/evento/bianco-nero-hermetika/
LOCATION:Hermetika\, Via Limitanea\, 7\, Trieste\, TS\, Italy
ATTACH;FMTTYPE=image/jpeg:https://www.ernafos.it/wp-content/uploads/2025/01/HERMETIKA-TS.jpg
END:VEVENT
BEGIN:VEVENT
DTSTART;TZID=Europe/Rome:20221210T180000
DTEND;TZID=Europe/Rome:20221230T193000
DTSTAMP:20260423T000312
CREATED:20260412T201817Z
LAST-MODIFIED:20260412T201817Z
UID:2248-1670695200-1672428600@www.ernafos.it
SUMMARY:Arte in Festa – Mostra Collettiva
DESCRIPTION:Arte in Festa – Mostra collettiva di pittura\, scultura e grafica 2022. Presentazione di Gabriella Dipietro. Galleria Rettori Tribbio 2\, Trieste.
URL:https://www.ernafos.it/evento/arte-in-festa-mostra-collettiva/
LOCATION:Galleria Rettori Tribbio 2\, Piazza Vecchia\, 6\, Trieste\, TS\, Italy
ATTACH;FMTTYPE=image/jpeg:https://www.ernafos.it/wp-content/uploads/2025/01/ARTE-in-FESTA-TS.jpg
END:VEVENT
BEGIN:VEVENT
DTSTART;TZID=Europe/Rome:20221202T173000
DTEND;TZID=Europe/Rome:20221220T190000
DTSTAMP:20260423T000312
CREATED:20260412T203411Z
LAST-MODIFIED:20260412T203411Z
UID:2282-1670002200-1671562800@www.ernafos.it
SUMMARY:Il Vento dell'Arte – Mostra Collettiva Atelier Amèbe
DESCRIPTION:Mostra collettiva degli Amici Atelier Amèbe “Il Vento dell’Arte” presso Eppinger Caffè\, Trieste.
URL:https://www.ernafos.it/evento/il-vento-dellarte-mostra-collettiva-atelier-amebe/
LOCATION:Eppinger Caffè\, Via Dante\, 2/a\, Trieste\, TS\, Italy
ATTACH;FMTTYPE=image/jpeg:https://www.ernafos.it/wp-content/uploads/2025/01/IL-VENTO-dellARTE.jpg
END:VEVENT
BEGIN:VEVENT
DTSTART;TZID=Europe/Rome:20221001T170000
DTEND;TZID=Europe/Rome:20221014T193000
DTSTAMP:20260423T000312
CREATED:20260412T201627Z
LAST-MODIFIED:20260412T201627Z
UID:2243-1664643600-1665775800@www.ernafos.it
SUMMARY:Amare il Mare – Mostra Collettiva di Pittura
DESCRIPTION:Mostra collettiva di pittura “Amare il Mare” presso la Galleria Rettori Tribbio 2. Presentazione a cura di Gabriella Dipietro. Inaugurazione sabato 1° ottobre 2022 alle ore 17.
URL:https://www.ernafos.it/evento/amare-il-mare-mostra-collettiva-di-pittura/
LOCATION:Galleria Rettori Tribbio 2\, Piazza Vecchia\, 6\, Trieste\, TS\, Italy
ATTACH;FMTTYPE=image/jpeg:https://www.ernafos.it/wp-content/uploads/2025/01/AMARE-IL-MARE-2022.jpg
END:VEVENT
BEGIN:VEVENT
DTSTART;TZID=Europe/Rome:20220708T170000
DTEND;TZID=Europe/Rome:20220729T193000
DTSTAMP:20260423T000312
CREATED:20260412T202344Z
LAST-MODIFIED:20260412T202344Z
UID:2261-1657299600-1659123000@www.ernafos.it
SUMMARY:Divertissement – Il diritto alla felicità
DESCRIPTION:Mostra collettiva benefica “Divertissement… il diritto alla felicità” presso Associazione Culturale Hermetika. Ricavato devoluto ad A.I.A.S. Trieste Onlus.
URL:https://www.ernafos.it/evento/divertissement-il-diritto-alla-felicita/
LOCATION:Associazione Culturale Hermetika\, Via Limitanea\, 7\, Trieste\, TS\, Italy
ATTACH;FMTTYPE=image/jpeg:https://www.ernafos.it/wp-content/uploads/2025/01/DIVERTISSEMENT-beneficenza.jpg
END:VEVENT
BEGIN:VEVENT
DTSTART;TZID=Europe/Rome:20220701T100000
DTEND;TZID=Europe/Rome:20220831T200000
DTSTAMP:20260423T000312
CREATED:20260412T204332Z
LAST-MODIFIED:20260412T204332Z
UID:2303-1656669600-1661976000@www.ernafos.it
SUMMARY:Mostra al Magazzino 26 – Trieste
DESCRIPTION:Mostra presso Magazzino 26\, Porto Vecchio\, Trieste.
URL:https://www.ernafos.it/evento/mostra-al-magazzino-26-trieste/
LOCATION:Magazzino 26\, Porto Vecchio\, Trieste\, TS\, Italy
ATTACH;FMTTYPE=image/jpeg:https://www.ernafos.it/wp-content/uploads/2025/01/MAGAZZINO-26-TS.jpg
END:VEVENT
BEGIN:VEVENT
DTSTART;TZID=Europe/Rome:20220521T093000
DTEND;TZID=Europe/Rome:20220521T170000
DTSTAMP:20260423T000312
CREATED:20260412T202613Z
LAST-MODIFIED:20260412T202613Z
UID:2267-1653125400-1653152400@www.ernafos.it
SUMMARY:7^ Ex-Tempore di Pittura "Artisti en plein air" – Rivel'Art
DESCRIPTION:Il Gruppo Artisti Triestini “Rivel’Art” organizza la 7^ Ex-Tempore di pittura “Artisti en plein air”. Pittura dal vivo in Via Gabriele Foschiatti\, Trieste. Partecipazione gratuita.
URL:https://www.ernafos.it/evento/7-ex-tempore-di-pittura-artisti-en-plein-air-rivelart/
LOCATION:Via Gabriele Foschiatti\, Trieste\, TS\, Italy
ATTACH;FMTTYPE=image/jpeg:https://www.ernafos.it/wp-content/uploads/2025/01/EX-TEMPORE.jpg
END:VEVENT
BEGIN:VEVENT
DTSTART;TZID=Europe/Rome:20211001T100000
DTEND;TZID=Europe/Rome:20211031T190000
DTSTAMP:20260423T000312
CREATED:20260412T204759Z
LAST-MODIFIED:20260412T204759Z
UID:2331-1633082400-1635706800@www.ernafos.it
SUMMARY:Mostra Rettori Tribbio – Trieste
DESCRIPTION:Mostra presso Galleria Rettori Tribbio\, Trieste.
URL:https://www.ernafos.it/evento/mostra-rettori-tribbio-trieste/
LOCATION:Galleria Rettori Tribbio\, Trieste\, TS\, Italy
ATTACH;FMTTYPE=image/jpeg:https://www.ernafos.it/wp-content/uploads/2025/01/RETTORI-TRIBBIO.jpg
END:VEVENT
BEGIN:VEVENT
DTSTART;TZID=Europe/Rome:20210901T100000
DTEND;TZID=Europe/Rome:20210930T190000
DTSTAMP:20260423T000312
CREATED:20260412T204337Z
LAST-MODIFIED:20260412T204337Z
UID:2305-1630490400-1633028400@www.ernafos.it
SUMMARY:Magici Colori del Golfo – Trieste
DESCRIPTION:Mostra “Magici Colori del Golfo” a Trieste.
URL:https://www.ernafos.it/evento/magici-colori-del-golfo-trieste/
LOCATION:TS
ATTACH;FMTTYPE=image/jpeg:https://www.ernafos.it/wp-content/uploads/2025/01/MAGICI-COLORI-del-GOLFO.jpg
END:VEVENT
BEGIN:VEVENT
DTSTART;TZID=Europe/Rome:20210701T100000
DTEND;TZID=Europe/Rome:20210731T190000
DTSTAMP:20260423T000312
CREATED:20260412T204754Z
LAST-MODIFIED:20260412T204754Z
UID:2329-1625133600-1627758000@www.ernafos.it
SUMMARY:Pennellate di Sole – Trieste
DESCRIPTION:Mostra “Pennellate di Sole” a Trieste.
URL:https://www.ernafos.it/evento/pennellate-di-sole-trieste/
LOCATION:TS
ATTACH;FMTTYPE=image/jpeg:https://www.ernafos.it/wp-content/uploads/2025/01/PENNELLATE-di-SOLE-TS.jpg
END:VEVENT
BEGIN:VEVENT
DTSTART;TZID=Europe/Rome:20210601T170000
DTEND;TZID=Europe/Rome:20210630T190000
DTSTAMP:20260423T000312
CREATED:20260412T204327Z
LAST-MODIFIED:20260412T204327Z
UID:2301-1622566800-1625079600@www.ernafos.it
SUMMARY:Mostra alla Saletta – Trieste 2021
DESCRIPTION:Mostra collettiva presso La Saletta\, Trieste\, 2021.
URL:https://www.ernafos.it/evento/mostra-alla-saletta-trieste-2021/
LOCATION:TS
ATTACH;FMTTYPE=image/jpeg:https://www.ernafos.it/wp-content/uploads/2025/01/LA-SALETTA-2021.jpg
END:VEVENT
BEGIN:VEVENT
DTSTART;TZID=Europe/Rome:20210401T100000
DTEND;TZID=Europe/Rome:20210430T190000
DTSTAMP:20260423T000312
CREATED:20260412T204805Z
LAST-MODIFIED:20260412T204805Z
UID:2334-1617271200-1619809200@www.ernafos.it
SUMMARY:Piccolo Formato – Trieste
DESCRIPTION:Mostra “Piccolo Formato” a Trieste.
URL:https://www.ernafos.it/evento/piccolo-formato-trieste/
LOCATION:TS
ATTACH;FMTTYPE=image/jpeg:https://www.ernafos.it/wp-content/uploads/2025/01/PICCOLO-FORMATO.jpg
END:VEVENT
BEGIN:VEVENT
DTSTART;TZID=Europe/Rome:20201030T100000
DTEND;TZID=Europe/Rome:20201115T190000
DTSTAMP:20260423T000312
CREATED:20260412T202008Z
LAST-MODIFIED:20260412T202008Z
UID:2253-1604052000-1605466800@www.ernafos.it
SUMMARY:I 101 di Eclipsis – Premio Nazionale Arti Visive
DESCRIPTION:I 101 di Eclipsis – Premio Nazionale per le Arti Visive\, Prima Edizione 2020. A cura di Giancarlo Bonomo e Raffaella Ferrari. In collaborazione con art-alive.eu. Presso Spazio Dueunodue\, Bologna.
URL:https://www.ernafos.it/evento/i-101-di-eclipsis-premio-nazionale-arti-visive/
LOCATION:Spazio Dueunodue\, Via Galliera\, 2/B\, Bologna\, BO\, Italy
ATTACH;FMTTYPE=image/jpeg:https://www.ernafos.it/wp-content/uploads/2025/01/BOLOGNA.jpg
END:VEVENT
BEGIN:VEVENT
DTSTART;TZID=Europe/Rome:20200716T100000
DTEND;TZID=Europe/Rome:20200726T190000
DTSTAMP:20260423T000312
CREATED:20260412T200514Z
LAST-MODIFIED:20260412T200514Z
UID:2208-1594893600-1595790000@www.ernafos.it
SUMMARY:Premio Venezia – Mostra Concorso d'Arte Contemporanea
DESCRIPTION:Premio Venezia\, Prima Edizione. Mostra Concorso d’Arte Contemporanea organizzata da AccorsiArte. Esposizione presso gli spazi Accorsi Arte\, zona Castello – Arsenale\, Venezia.
URL:https://www.ernafos.it/evento/premio-venezia-mostra-concorso-darte-contemporanea/
LOCATION:Spazi Accorsi Arte\, Venezia\, VE\, Italy
ATTACH;FMTTYPE=image/jpeg:https://www.ernafos.it/wp-content/uploads/2025/01/VENEZIA.jpg
END:VEVENT
BEGIN:VEVENT
DTSTART;TZID=Europe/Rome:20200606T170000
DTEND;TZID=Europe/Rome:20200613T193000
DTSTAMP:20260423T000312
CREATED:20260412T202135Z
LAST-MODIFIED:20260412T202135Z
UID:2256-1591462800-1592076600@www.ernafos.it
SUMMARY:Colorando una Canzone – Mostra Collettiva Glam Art
DESCRIPTION:Mostra collettiva di opere d’arte “Colorando una Canzone”. 2° evento del concorso Glam Factor 2020 con Voto dei Visitatori. Organizzazione: Associazione Culturale Glam Art. Erna Fossati – Resp. Comunicazione.
URL:https://www.ernafos.it/evento/colorando-una-canzone-mostra-collettiva-glam-art/
LOCATION:Associazione Culturale Glam Art\, Capo di Piazza Bartoli\, 1 - 1° piano\, Trieste\, TS\, Italy
ATTACH;FMTTYPE=image/jpeg:https://www.ernafos.it/wp-content/uploads/2025/01/COLORANDO-una-CANZONE.jpg
END:VEVENT
BEGIN:VEVENT
DTSTART;TZID=Europe/Rome:20200301T100000
DTEND;TZID=Europe/Rome:20200331T190000
DTSTAMP:20260423T000312
CREATED:20260412T204534Z
LAST-MODIFIED:20260412T204534Z
UID:2318-1583056800-1585681200@www.ernafos.it
SUMMARY:Mostra a Monfalcone (II)
DESCRIPTION:Esposizione a Monfalcone (GO).
URL:https://www.ernafos.it/evento/mostra-a-monfalcone-ii/
LOCATION:TS
ATTACH;FMTTYPE=image/jpeg:https://www.ernafos.it/wp-content/uploads/2025/01/MONFALCONE.jpg
END:VEVENT
END:VCALENDAR