BEGIN:VCALENDAR
VERSION:2.0
PRODID:-//Ernafo&#039;s - ECPv6.15.17.1//NONSGML v1.0//EN
CALSCALE:GREGORIAN
METHOD:PUBLISH
X-ORIGINAL-URL:https://www.ernafos.it
X-WR-CALDESC:Eventi per Ernafo&#039;s
REFRESH-INTERVAL;VALUE=DURATION:PT1H
X-Robots-Tag:noindex
X-PUBLISHED-TTL:PT1H
BEGIN:VTIMEZONE
TZID:Europe/Rome
BEGIN:DAYLIGHT
TZOFFSETFROM:+0100
TZOFFSETTO:+0200
TZNAME:CEST
DTSTART:20220327T010000
END:DAYLIGHT
BEGIN:STANDARD
TZOFFSETFROM:+0200
TZOFFSETTO:+0100
TZNAME:CET
DTSTART:20221030T010000
END:STANDARD
BEGIN:DAYLIGHT
TZOFFSETFROM:+0100
TZOFFSETTO:+0200
TZNAME:CEST
DTSTART:20230326T010000
END:DAYLIGHT
BEGIN:STANDARD
TZOFFSETFROM:+0200
TZOFFSETTO:+0100
TZNAME:CET
DTSTART:20231029T010000
END:STANDARD
BEGIN:DAYLIGHT
TZOFFSETFROM:+0100
TZOFFSETTO:+0200
TZNAME:CEST
DTSTART:20240331T010000
END:DAYLIGHT
BEGIN:STANDARD
TZOFFSETFROM:+0200
TZOFFSETTO:+0100
TZNAME:CET
DTSTART:20241027T010000
END:STANDARD
END:VTIMEZONE
BEGIN:VEVENT
DTSTART;TZID=Europe/Rome:20230501T100000
DTEND;TZID=Europe/Rome:20230531T190000
DTSTAMP:20260424T135255
CREATED:20260412T204548Z
LAST-MODIFIED:20260412T204548Z
UID:2324-1682935200-1685559600@www.ernafos.it
SUMMARY:Tre Artisti\, Una Passione – Trieste
DESCRIPTION:Mostra “Tre Artisti\, Una Passione” a Trieste.
URL:https://www.ernafos.it/evento/tre-artisti-una-passione-trieste/
LOCATION:TS
ATTACH;FMTTYPE=image/jpeg:https://www.ernafos.it/wp-content/uploads/2025/01/TRE-ARTISTI-UNA-PASSIOLE-1.jpg
END:VEVENT
END:VCALENDAR