BEGIN:VCALENDAR
VERSION:2.0
PRODID:-//Ernafo&#039;s - ECPv6.15.17.1//NONSGML v1.0//EN
CALSCALE:GREGORIAN
METHOD:PUBLISH
X-ORIGINAL-URL:https://www.ernafos.it
X-WR-CALDESC:Eventi per Ernafo&#039;s
REFRESH-INTERVAL;VALUE=DURATION:PT1H
X-Robots-Tag:noindex
X-PUBLISHED-TTL:PT1H
BEGIN:VTIMEZONE
TZID:Europe/Rome
BEGIN:DAYLIGHT
TZOFFSETFROM:+0100
TZOFFSETTO:+0200
TZNAME:CEST
DTSTART:20210328T010000
END:DAYLIGHT
BEGIN:STANDARD
TZOFFSETFROM:+0200
TZOFFSETTO:+0100
TZNAME:CET
DTSTART:20211031T010000
END:STANDARD
BEGIN:DAYLIGHT
TZOFFSETFROM:+0100
TZOFFSETTO:+0200
TZNAME:CEST
DTSTART:20220327T010000
END:DAYLIGHT
BEGIN:STANDARD
TZOFFSETFROM:+0200
TZOFFSETTO:+0100
TZNAME:CET
DTSTART:20221030T010000
END:STANDARD
BEGIN:DAYLIGHT
TZOFFSETFROM:+0100
TZOFFSETTO:+0200
TZNAME:CEST
DTSTART:20230326T010000
END:DAYLIGHT
BEGIN:STANDARD
TZOFFSETFROM:+0200
TZOFFSETTO:+0100
TZNAME:CET
DTSTART:20231029T010000
END:STANDARD
END:VTIMEZONE
BEGIN:VEVENT
DTSTART;TZID=Europe/Rome:20221001T170000
DTEND;TZID=Europe/Rome:20221014T193000
DTSTAMP:20260425T024926
CREATED:20260412T201627Z
LAST-MODIFIED:20260412T201627Z
UID:2243-1664643600-1665775800@www.ernafos.it
SUMMARY:Amare il Mare – Mostra Collettiva di Pittura
DESCRIPTION:Mostra collettiva di pittura “Amare il Mare” presso la Galleria Rettori Tribbio 2. Presentazione a cura di Gabriella Dipietro. Inaugurazione sabato 1° ottobre 2022 alle ore 17.
URL:https://www.ernafos.it/evento/amare-il-mare-mostra-collettiva-di-pittura/
LOCATION:Galleria Rettori Tribbio 2\, Piazza Vecchia\, 6\, Trieste\, TS\, Italy
ATTACH;FMTTYPE=image/jpeg:https://www.ernafos.it/wp-content/uploads/2025/01/AMARE-IL-MARE-2022.jpg
END:VEVENT
END:VCALENDAR